BEGIN:VCALENDAR
VERSION:2.0
PRODID:SchoolNow
CALSCALE:GREGORIAN
BEGIN:VEVENT
UID:067eed54-0dd9-11ec-8cf3-0a875045c849
DTSTAMP:20210904T233710Z
SUMMARY:Girls Tennis home vs. Grandville
URL;VALUE=URI:https://www.hudsonvillepublicschools.org/baldwinstreet/athlet
 ics/calendar/2707829/girls-tennis-home-vs-grandville
DTSTART:20211014T200000Z
DTEND:20211014T213000Z
END:VEVENT
END:VCALENDAR
