BEGIN:VCALENDAR
VERSION:2.0
PRODID:SchoolNow
CALSCALE:GREGORIAN
BEGIN:VEVENT
UID:8ac78a72-0dd8-11ec-981c-0a875045c849
DTSTAMP:20210904T233343Z
SUMMARY:Girls Tennis at Creekside
URL;VALUE=URI:https://www.hudsonvillepublicschools.org/baldwinstreet/athlet
 ics/calendar/2707828/girls-tennis-at-creekside
DTSTART:20211012T200000Z
DTEND:20211012T213000Z
END:VEVENT
END:VCALENDAR
