BEGIN:VCALENDAR
VERSION:2.0
PRODID:SchoolNow
CALSCALE:GREGORIAN
BEGIN:VEVENT
UID:4fccd6d4-0dd8-11ec-911c-0a875045c849
DTSTAMP:20210904T233204Z
SUMMARY:Girls Tennis home vs. West Ottawa
URL;VALUE=URI:https://www.hudsonvillepublicschools.org/baldwinstreet/athlet
 ics/calendar/2707827/girls-tennis-home-vs-west-ottawa
DTSTART:20211007T200000Z
DTEND:20211007T213000Z
END:VEVENT
END:VCALENDAR
