BEGIN:VCALENDAR
VERSION:2.0
PRODID:SchoolNow
CALSCALE:GREGORIAN
BEGIN:VEVENT
UID:28177cfc-0dd8-11ec-b7ac-0a875045c849
DTSTAMP:20210904T233057Z
SUMMARY:Girls Tennis at Jenison
URL;VALUE=URI:https://www.hudsonvillepublicschools.org/baldwinstreet/athlet
 ics/calendar/2707826/girls-tennis-at-jenison
DTSTART:20211005T200000Z
DTEND:20211005T213000Z
END:VEVENT
END:VCALENDAR
