BEGIN:VCALENDAR
VERSION:2.0
PRODID:SchoolNow
CALSCALE:GREGORIAN
BEGIN:VEVENT
UID:01505c74-0dd8-11ec-a45e-0a875045c849
DTSTAMP:20210904T232952Z
SUMMARY:Girls Tennis home vs. Holland Christian
URL;VALUE=URI:https://www.hudsonvillepublicschools.org/baldwinstreet/athlet
 ics/calendar/2707825/girls-tennis-home-vs-holland-christian
DTSTART:20210930T200000Z
DTEND:20210930T213000Z
END:VEVENT
END:VCALENDAR
