BEGIN:VCALENDAR
VERSION:2.0
PRODID:SchoolNow
CALSCALE:GREGORIAN
BEGIN:VEVENT
UID:dd35b118-0dd7-11ec-bf83-0a875045c849
DTSTAMP:20210904T232852Z
SUMMARY:Girls Tennis at Holland
URL;VALUE=URI:https://www.hudsonvillepublicschools.org/baldwinstreet/athlet
 ics/calendar/2707824/girls-tennis-at-holland
DTSTART:20210928T200000Z
DTEND:20210928T213000Z
END:VEVENT
END:VCALENDAR
