BEGIN:VCALENDAR
VERSION:2.0
PRODID:SchoolNow
CALSCALE:GREGORIAN
BEGIN:VEVENT
UID:fa4bea48-0dd6-11ec-a636-02a9035bc207
DTSTAMP:20210904T232231Z
SUMMARY:Girls Tennis home vs. Cityside
URL;VALUE=URI:https://www.hudsonvillepublicschools.org/baldwinstreet/athlet
 ics/calendar/2707823/girls-tennis-home-vs-cityside
DTSTART:20210916T200000Z
DTEND:20210916T213000Z
END:VEVENT
END:VCALENDAR
