BEGIN:VCALENDAR
VERSION:2.0
PRODID:SchoolNow
CALSCALE:GREGORIAN
BEGIN:VEVENT
UID:c34529ec-0dd6-11ec-baf2-02a9035bc207
DTSTAMP:20210904T232059Z
SUMMARY:Girls Tennis at West Ottawa Black
URL;VALUE=URI:https://www.hudsonvillepublicschools.org/baldwinstreet/athlet
 ics/calendar/2707822/girls-tennis-at-west-ottawa-black
DTSTART:20210914T200000Z
DTEND:20210914T213000Z
END:VEVENT
END:VCALENDAR
