BEGIN:VCALENDAR
VERSION:2.0
PRODID:SchoolNow
CALSCALE:GREGORIAN
BEGIN:VEVENT
UID:90cd31c6-0dd6-11ec-9a57-02a9035bc207
DTSTAMP:20210904T231934Z
SUMMARY:Girls Tennis Home vs. Grand Haven
URL;VALUE=URI:https://www.hudsonvillepublicschools.org/baldwinstreet/athlet
 ics/calendar/2707821/girls-tennis-home-vs-grand-haven
DTSTART:20210909T200000Z
DTEND:20210909T213000Z
END:VEVENT
END:VCALENDAR
