BEGIN:VCALENDAR
VERSION:2.0
PRODID:SchoolNow
CALSCALE:GREGORIAN
BEGIN:VEVENT
UID:65409d5e-0dd6-11ec-a783-02a9035bc207
DTSTAMP:20210904T231821Z
SUMMARY:Girls Tennis at Hamilton
URL;VALUE=URI:https://www.hudsonvillepublicschools.org/baldwinstreet/athlet
 ics/calendar/2707820/girls-tennis-at-hamilton
DTSTART:20210907T200000Z
DTEND:20210907T220000Z
END:VEVENT
END:VCALENDAR
