BEGIN:VCALENDAR
VERSION:2.0
PRODID:SchoolNow
CALSCALE:GREGORIAN
BEGIN:VEVENT
UID:06855854-0dd6-11ec-bc62-02a9035bc207
DTSTAMP:20210904T231542Z
SUMMARY:Volleyball Home vs. Mona Shores
URL;VALUE=URI:https://www.hudsonvillepublicschools.org/baldwinstreet/athlet
 ics/calendar/2707819/volleyball-home-vs-mona-shores
DTSTART:20211014T200000Z
DTEND:20211014T230000Z
END:VEVENT
END:VCALENDAR
