BEGIN:VCALENDAR
VERSION:2.0
PRODID:SchoolNow
CALSCALE:GREGORIAN
BEGIN:VEVENT
UID:db08deee-0dd5-11ec-9ec5-02a9035bc207
DTSTAMP:20210904T231429Z
SUMMARY:Volleyball at Grand Haven
URL;VALUE=URI:https://www.hudsonvillepublicschools.org/baldwinstreet/athlet
 ics/calendar/2707818/volleyball-at-grand-haven
DTSTART:20211012T200000Z
DTEND:20211012T230000Z
END:VEVENT
END:VCALENDAR
