BEGIN:VCALENDAR
VERSION:2.0
PRODID:SchoolNow
CALSCALE:GREGORIAN
BEGIN:VEVENT
UID:b84d3b5c-0dd5-11ec-8861-02a9035bc207
DTSTAMP:20210904T231331Z
SUMMARY:Volleyball home vs. Grand Haven
URL;VALUE=URI:https://www.hudsonvillepublicschools.org/baldwinstreet/athlet
 ics/calendar/2707817/volleyball-home-vs-grand-haven
DTSTART:20211007T200000Z
DTEND:20211007T230000Z
END:VEVENT
END:VCALENDAR
