BEGIN:VCALENDAR
VERSION:2.0
PRODID:SchoolNow
CALSCALE:GREGORIAN
BEGIN:VEVENT
UID:916a2a68-0dd5-11ec-8845-02a9035bc207
DTSTAMP:20210904T231226Z
SUMMARY:Volleyball at West Ottawa
URL;VALUE=URI:https://www.hudsonvillepublicschools.org/baldwinstreet/athlet
 ics/calendar/2707816/volleyball-at-west-ottawa
DTSTART:20211005T200000Z
DTEND:20211005T230000Z
END:VEVENT
END:VCALENDAR
