BEGIN:VCALENDAR
VERSION:2.0
PRODID:SchoolNow
CALSCALE:GREGORIAN
BEGIN:VEVENT
UID:68228c72-0dd5-11ec-b57b-02a9035bc207
DTSTAMP:20210904T231116Z
SUMMARY:Volleyball Tournament at Grand Haven
URL;VALUE=URI:https://www.hudsonvillepublicschools.org/baldwinstreet/athlet
 ics/calendar/2707815/volleyball-tournament-at-grand-haven
DTSTART:20211002T130000Z
DTEND:20211002T170000Z
END:VEVENT
END:VCALENDAR
