BEGIN:VCALENDAR
VERSION:2.0
PRODID:SchoolNow
CALSCALE:GREGORIAN
BEGIN:VEVENT
UID:3d979934-0dd5-11ec-9013-02a9035bc207
DTSTAMP:20210904T231005Z
SUMMARY:Volleyball at Creekside
URL;VALUE=URI:https://www.hudsonvillepublicschools.org/baldwinstreet/athlet
 ics/calendar/2707814/volleyball-at-creeksdie
DTSTART:20210929T200000Z
DTEND:20210929T230000Z
END:VEVENT
END:VCALENDAR
