BEGIN:VCALENDAR
VERSION:2.0
PRODID:SchoolNow
CALSCALE:GREGORIAN
BEGIN:VEVENT
UID:a95a65d0-0dd4-11ec-8866-0e1ef22642d9
DTSTAMP:20210904T230556Z
SUMMARY:Volleyball Home vs. Grandville
URL;VALUE=URI:https://www.hudsonvillepublicschools.org/baldwinstreet/athlet
 ics/calendar/2707813/volleyball-home-vs-grandville
DTSTART:20210928T200000Z
DTEND:20210928T230000Z
END:VEVENT
END:VCALENDAR
