BEGIN:VCALENDAR
VERSION:2.0
PRODID:SchoolNow
CALSCALE:GREGORIAN
BEGIN:VEVENT
UID:7322eeba-0dd4-11ec-a431-0e1ef22642d9
DTSTAMP:20210904T230425Z
SUMMARY:Volleyball tournament at Reeths Puffer/Mona Shores
URL;VALUE=URI:https://www.hudsonvillepublicschools.org/baldwinstreet/athlet
 ics/calendar/2707812/volleyball-tournament-at-reeths-puffer-mona-shores
DTSTART:20210925T130000Z
DTEND:20210925T170000Z
END:VEVENT
END:VCALENDAR
