BEGIN:VCALENDAR
VERSION:2.0
PRODID:SchoolNow
CALSCALE:GREGORIAN
BEGIN:VEVENT
UID:c3e1f7f8-0dd2-11ec-bb79-0af786e47309
DTSTAMP:20210904T225222Z
SUMMARY:Volleyball at Riley Street
URL;VALUE=URI:https://www.hudsonvillepublicschools.org/baldwinstreet/athlet
 ics/calendar/2707811/volleyball-at-riley-street
DTSTART:20210923T200000Z
DTEND:20210923T230000Z
END:VEVENT
END:VCALENDAR
