BEGIN:VCALENDAR
VERSION:2.0
PRODID:SchoolNow
CALSCALE:GREGORIAN
BEGIN:VEVENT
UID:8603a8dc-0dd2-11ec-a856-0af786e47309
DTSTAMP:20210904T225038Z
SUMMARY:Girls Volleyball home vs. Pinewood
URL;VALUE=URI:https://www.hudsonvillepublicschools.org/baldwinstreet/athlet
 ics/calendar/2707810/girls-volleyball-home-vs-pinewood
DTSTART:20210921T200000Z
DTEND:20210921T230000Z
END:VEVENT
END:VCALENDAR
