BEGIN:VCALENDAR
VERSION:2.0
PRODID:SchoolNow
CALSCALE:GREGORIAN
BEGIN:VEVENT
UID:500dd1b2-0dd2-11ec-8dea-0af786e47309
DTSTAMP:20210904T224907Z
SUMMARY:Volleyball at Cityside
URL;VALUE=URI:https://www.hudsonvillepublicschools.org/baldwinstreet/athlet
 ics/calendar/2707809/volleyball-at-cityside
DTSTART:20210915T200000Z
DTEND:20210915T230000Z
END:VEVENT
END:VCALENDAR
