BEGIN:VCALENDAR
VERSION:2.0
PRODID:SchoolNow
CALSCALE:GREGORIAN
BEGIN:VEVENT
UID:1774f4e8-0dd2-11ec-96f5-0af786e47309
DTSTAMP:20210904T224732Z
SUMMARY:Volleyball home vs. Jenison
URL;VALUE=URI:https://www.hudsonvillepublicschools.org/baldwinstreet/athlet
 ics/calendar/2707808/volleyball-home-vs-jenison
DTSTART:20210914T200000Z
DTEND:20210914T230000Z
END:VEVENT
END:VCALENDAR
