BEGIN:VCALENDAR
VERSION:2.0
PRODID:SchoolNow
CALSCALE:GREGORIAN
BEGIN:VEVENT
UID:c42527c2-0dd1-11ec-94e7-0af786e47309
DTSTAMP:20210904T224513Z
SUMMARY:Boys Soccer at Jenison
URL;VALUE=URI:https://www.hudsonvillepublicschools.org/baldwinstreet/athlet
 ics/calendar/2707807/boys-soccer
DTSTART:20211014T200000Z
DTEND:20211014T220000Z
END:VEVENT
END:VCALENDAR
