BEGIN:VCALENDAR
VERSION:2.0
PRODID:SchoolNow
CALSCALE:GREGORIAN
BEGIN:VEVENT
UID:91b6edde-0dd1-11ec-87d1-0af786e47309
DTSTAMP:20210904T224348Z
SUMMARY:7th Grade Boys Soccer home vs. Grandville
URL;VALUE=URI:https://www.hudsonvillepublicschools.org/baldwinstreet/athlet
 ics/calendar/2707806/7th-grade-boys-soccer-home-vs-grandville
DTSTART:20211012T200000Z
DTEND:20211012T210000Z
END:VEVENT
END:VCALENDAR
