BEGIN:VCALENDAR
VERSION:2.0
PRODID:SchoolNow
CALSCALE:GREGORIAN
BEGIN:VEVENT
UID:4cbabf94-0dd1-11ec-9c7e-0af786e47309
DTSTAMP:20210904T224152Z
SUMMARY:Boys Soccer home vs. Jenison
URL;VALUE=URI:https://www.hudsonvillepublicschools.org/baldwinstreet/athlet
 ics/calendar/2707805/boys-soccer-home-vs-jenison
DTSTART:20211007T200000Z
DTEND:20211007T220000Z
END:VEVENT
END:VCALENDAR
