BEGIN:VCALENDAR
VERSION:2.0
PRODID:SchoolNow
CALSCALE:GREGORIAN
BEGIN:VEVENT
UID:9bba83f0-0dd0-11ec-8d1f-0af786e47309
DTSTAMP:20210904T223655Z
SUMMARY:8th Grade Soccer home vs. Creekside
URL;VALUE=URI:https://www.hudsonvillepublicschools.org/baldwinstreet/athlet
 ics/calendar/2707804/8th-grade-soccer-home-vs-creekside
DTSTART:20211005T200000Z
DTEND:20211005T210000Z
END:VEVENT
END:VCALENDAR
