BEGIN:VCALENDAR
VERSION:2.0
PRODID:SchoolNow
CALSCALE:GREGORIAN
BEGIN:VEVENT
UID:47c9a9ba-0dd0-11ec-9710-0af786e47309
DTSTAMP:20210904T223435Z
SUMMARY:7th Grade Boys Soccer at Grand Haven
URL;VALUE=URI:https://www.hudsonvillepublicschools.org/baldwinstreet/athlet
 ics/calendar/2707803/7th-grade-boys-soccer-at-grand-haven
DTSTART:20210904T203000Z
DTEND:20210904T213000Z
END:VEVENT
END:VCALENDAR
