BEGIN:VCALENDAR
VERSION:2.0
PRODID:SchoolNow
CALSCALE:GREGORIAN
BEGIN:VEVENT
UID:3b0f23da-0dd0-11ec-9942-0af786e47309
DTSTAMP:20210904T223948Z
SUMMARY:7th Grade Boys Soccer at Grand Haven
URL;VALUE=URI:https://www.hudsonvillepublicschools.org/baldwinstreet/athlet
 ics/calendar/2707802/7th-grade-boys-soccer-at-grand-haven
DTSTART:20210930T203000Z
DTEND:20210930T213000Z
END:VEVENT
END:VCALENDAR
