BEGIN:VCALENDAR
VERSION:2.0
PRODID:SchoolNow
CALSCALE:GREGORIAN
BEGIN:VEVENT
UID:17a970b2-0dd0-11ec-9e80-0af786e47309
DTSTAMP:20210904T223314Z
SUMMARY:8th Grade Boys Soccer home vs. Muskegon
URL;VALUE=URI:https://www.hudsonvillepublicschools.org/baldwinstreet/athlet
 ics/calendar/2707801/8th-grade-boys-soccer-home-vs-muskegon
DTSTART:20210928T200000Z
DTEND:20210928T210000Z
END:VEVENT
END:VCALENDAR
