BEGIN:VCALENDAR
VERSION:2.0
PRODID:SchoolNow
CALSCALE:GREGORIAN
BEGIN:VEVENT
UID:17009a38-0dcf-11ec-8e92-0a054cf4f871
DTSTAMP:20210904T222603Z
SUMMARY:8th Grade Boys Soccer at Grandville
URL;VALUE=URI:https://www.hudsonvillepublicschools.org/baldwinstreet/athlet
 ics/calendar/2707800/8th-grade-boys-soccer-at-grandville
DTSTART:20210923T200000Z
DTEND:20210923T210000Z
END:VEVENT
END:VCALENDAR
