BEGIN:VCALENDAR
VERSION:2.0
PRODID:SchoolNow
CALSCALE:GREGORIAN
BEGIN:VEVENT
UID:f08814a8-0dce-11ec-bc3f-0a054cf4f871
DTSTAMP:20210904T222459Z
SUMMARY:Boys Soccer home vs. West Ottawa
URL;VALUE=URI:https://www.hudsonvillepublicschools.org/baldwinstreet/athlet
 ics/calendar/2707799/boys-soccer-home-vs-west-ottawa
DTSTART:20210921T200000Z
DTEND:20210921T220000Z
END:VEVENT
END:VCALENDAR
