BEGIN:VCALENDAR
VERSION:2.0
PRODID:SchoolNow
CALSCALE:GREGORIAN
BEGIN:VEVENT
UID:6fbcc38c-0dce-11ec-9fda-0a054cf4f871
DTSTAMP:20210904T222123Z
SUMMARY:Boys Soccer home vs. Cityside
URL;VALUE=URI:https://www.hudsonvillepublicschools.org/baldwinstreet/athlet
 ics/calendar/2707797/boys-soccer-home-vs-cityside
DTSTART:20210916T200000Z
DTEND:20210916T220000Z
END:VEVENT
END:VCALENDAR
