BEGIN:VCALENDAR
VERSION:2.0
PRODID:SchoolNow
CALSCALE:GREGORIAN
BEGIN:VEVENT
UID:411fb926-0dce-11ec-9671-0a054cf4f871
DTSTAMP:20210904T222004Z
SUMMARY:Boys Soccer at Holland
URL;VALUE=URI:https://www.hudsonvillepublicschools.org/baldwinstreet/athlet
 ics/calendar/2707796/boys-soccer-at-holland
DTSTART:20210914T200000Z
DTEND:20210914T220000Z
END:VEVENT
END:VCALENDAR
