BEGIN:VCALENDAR
VERSION:2.0
PRODID:SchoolNow
CALSCALE:GREGORIAN
BEGIN:VEVENT
UID:15cfb2f8-0dce-11ec-b960-0a054cf4f871
DTSTAMP:20210904T221852Z
SUMMARY:Boys Soccer at Holland Christian
URL;VALUE=URI:https://www.hudsonvillepublicschools.org/baldwinstreet/athlet
 ics/calendar/2707795/boys-soccer-at-holland-christian
DTSTART:20210909T200000Z
DTEND:20210909T220000Z
END:VEVENT
END:VCALENDAR
