BEGIN:VCALENDAR
VERSION:2.0
PRODID:SchoolNow
CALSCALE:GREGORIAN
BEGIN:VEVENT
UID:c1c56126-0dcd-11ec-a506-0a054cf4f871
DTSTAMP:20210904T221631Z
SUMMARY:Maize Football home vs. Grandville Maroon
URL;VALUE=URI:https://www.hudsonvillepublicschools.org/baldwinstreet/athlet
 ics/calendar/2707794/maize-football-home-vs-grandville-maroon
DTSTART:20211013T200000Z
DTEND:20211013T230000Z
END:VEVENT
END:VCALENDAR
