BEGIN:VCALENDAR
VERSION:2.0
PRODID:SchoolNow
CALSCALE:GREGORIAN
BEGIN:VEVENT
UID:45de5e50-0d96-11ec-90f9-0a875045c849
DTSTAMP:20210904T153921Z
SUMMARY:7th Grade Blue at West Ottawa White
URL;VALUE=URI:https://www.hudsonvillepublicschools.org/baldwinstreet/athlet
 ics/calendar/2707284/7th-grade-blue-at-west-ottawa-white
DTSTART:20211012T200000Z
DTEND:20211012T220000Z
END:VEVENT
END:VCALENDAR
