BEGIN:VCALENDAR
VERSION:2.0
PRODID:SchoolNow
CALSCALE:GREGORIAN
BEGIN:VEVENT
UID:dc05166e-0d94-11ec-b186-0213f65f650f
DTSTAMP:20210904T152913Z
SUMMARY:8th Grade Blue at Grandville White High School
URL;VALUE=URI:https://www.hudsonvillepublicschools.org/baldwinstreet/athlet
 ics/calendar/2707283/8th-grade-blue-at-grandville-white-high-school
DTSTART:20211012T200000Z
DTEND:20211012T220000Z
END:VEVENT
END:VCALENDAR
