BEGIN:VCALENDAR
VERSION:2.0
PRODID:SchoolNow
CALSCALE:GREGORIAN
BEGIN:VEVENT
UID:98fe857c-0d93-11ec-ab22-0213f65f650f
DTSTAMP:20210904T152011Z
SUMMARY:Hudsonville Blue home vs. Reeths Puffer
URL;VALUE=URI:https://www.hudsonvillepublicschools.org/baldwinstreet/athlet
 ics/calendar/2707282/hudsonville-blue-home-vs-reeths-puffer
DTSTART:20211006T200000Z
DTEND:20211006T230000Z
END:VEVENT
END:VCALENDAR
