BEGIN:VCALENDAR
VERSION:2.0
PRODID:SchoolNow
CALSCALE:GREGORIAN
BEGIN:VEVENT
UID:5eac7280-0d93-11ec-b490-0213f65f650f
DTSTAMP:20210904T151834Z
SUMMARY:Hudsonville Maize at West Ottawa Black
URL;VALUE=URI:https://www.hudsonvillepublicschools.org/baldwinstreet/athlet
 ics/calendar/2707281/hudsonville-maize-at-west-ottawa-black
DTSTART:20211006T200000Z
DTEND:20211006T230000Z
END:VEVENT
END:VCALENDAR
