BEGIN:VCALENDAR
VERSION:2.0
PRODID:SchoolNow
CALSCALE:GREGORIAN
BEGIN:VEVENT
UID:187d2b7e-0d93-11ec-8e95-0213f65f650f
DTSTAMP:20210904T151636Z
SUMMARY:Maize Football home vs. Mona Shores
URL;VALUE=URI:https://www.hudsonvillepublicschools.org/baldwinstreet/athlet
 ics/calendar/2707280/maize-football-home-vs-mona-shores
DTSTART:20210929T200000Z
DTEND:20210929T230000Z
END:VEVENT
END:VCALENDAR
