BEGIN:VCALENDAR
VERSION:2.0
PRODID:SchoolNow
CALSCALE:GREGORIAN
BEGIN:VEVENT
UID:9cf113c6-0d92-11ec-b2fa-0213f65f650f
DTSTAMP:20210904T151309Z
SUMMARY:Blue Football home vs. Grand Haven
URL;VALUE=URI:https://www.hudsonvillepublicschools.org/baldwinstreet/athlet
 ics/calendar/2707279/blue-football-home-vs-grand-haven
DTSTART:20210928T200000Z
DTEND:20210928T230000Z
END:VEVENT
END:VCALENDAR
