BEGIN:VCALENDAR
VERSION:2.0
PRODID:SchoolNow
CALSCALE:GREGORIAN
BEGIN:VEVENT
UID:9c2910f2-0d91-11ec-a3aa-0213f65f650f
DTSTAMP:20210904T150558Z
SUMMARY:Blue Football at Grandville Maroon at Grandville High School
URL;VALUE=URI:https://www.hudsonvillepublicschools.org/baldwinstreet/athlet
 ics/calendar/2707278/blue-football-at-grandville-maroon-at-grandville-high
 -school
DTSTART:20210922T200000Z
DTEND:20210922T230000Z
END:VEVENT
END:VCALENDAR
