BEGIN:VCALENDAR
VERSION:2.0
PRODID:SchoolNow
CALSCALE:GREGORIAN
BEGIN:VEVENT
UID:600f0ae0-0d91-11ec-89dc-0213f65f650f
DTSTAMP:20210904T150658Z
SUMMARY:Maize Football at Grand Haven
URL;VALUE=URI:https://www.hudsonvillepublicschools.org/baldwinstreet/athlet
 ics/calendar/2707277/hudsonville-maize-football-at-grand-haven
DTSTART:20210922T200000Z
DTEND:20210922T230000Z
END:VEVENT
END:VCALENDAR
