BEGIN:VCALENDAR
VERSION:2.0
PRODID:SchoolNow
CALSCALE:GREGORIAN
BEGIN:VEVENT
UID:32b0a89c-0d91-11ec-bcf0-0213f65f650f
DTSTAMP:20210904T150301Z
SUMMARY:Maize Football home vs. Jenison
URL;VALUE=URI:https://www.hudsonvillepublicschools.org/baldwinstreet/athlet
 ics/calendar/2707276/maize-football-home-vs-jenison
DTSTART:20210915T200000Z
DTEND:20210915T230000Z
END:VEVENT
END:VCALENDAR
