BEGIN:VCALENDAR
VERSION:2.0
PRODID:SchoolNow
CALSCALE:GREGORIAN
BEGIN:VEVENT
UID:0488175c-0d91-11ec-830c-0213f65f650f
DTSTAMP:20210904T150143Z
SUMMARY:8th Grade Blue Football at Grandville High
URL;VALUE=URI:https://www.hudsonvillepublicschools.org/baldwinstreet/athlet
 ics/calendar/2707275/8th-grade-blue-football-at-grandville-high
DTSTART:20210915T200000Z
DTEND:20210915T220000Z
END:VEVENT
END:VCALENDAR
