BEGIN:VCALENDAR
VERSION:2.0
PRODID:SchoolNow
CALSCALE:GREGORIAN
BEGIN:VEVENT
UID:841b8f7c-0d90-11ec-90f8-0213f65f650f
DTSTAMP:20210904T145808Z
SUMMARY:7th Grade Blue Football at West Ottawa White
URL;VALUE=URI:https://www.hudsonvillepublicschools.org/baldwinstreet/athlet
 ics/calendar/2707272/7th-grade-blue-football-at-west-ottawa-white
DTSTART:20210915T200000Z
DTEND:20210915T220000Z
END:VEVENT
END:VCALENDAR
