BEGIN:VCALENDAR
VERSION:2.0
PRODID:SchoolNow
CALSCALE:GREGORIAN
BEGIN:VEVENT
UID:4529be6a-0d90-11ec-a5f2-0213f65f650f
DTSTAMP:20210904T145622Z
SUMMARY:Maize Football at Home vs. West Ottawa Black
URL;VALUE=URI:https://www.hudsonvillepublicschools.org/baldwinstreet/athlet
 ics/calendar/2707271/maize-football-at-home-vs-west-ottawa-black
DTSTART:20210908T200000Z
DTEND:20210908T230000Z
END:VEVENT
END:VCALENDAR
