BEGIN:VCALENDAR
VERSION:2.0
PRODID:SchoolNow
CALSCALE:GREGORIAN
BEGIN:VEVENT
UID:9fa6a8fe-0d8f-11ec-8e60-02a9035bc207
DTSTAMP:20210904T145247Z
SUMMARY:7th Grade Maize Football at West Ottawa White
URL;VALUE=URI:https://www.hudsonvillepublicschools.org/baldwinstreet/athlet
 ics/calendar/2707270/7th-grade-maize-football-at-west-ottawa
DTSTART:20210908T200000Z
DTEND:20210908T220000Z
END:VEVENT
END:VCALENDAR
