BEGIN:VCALENDAR
VERSION:2.0
PRODID:SchoolNow
CALSCALE:GREGORIAN
BEGIN:VEVENT
UID:5bff27f2-0d8f-11ec-9d25-02a9035bc207
DTSTAMP:20210904T144951Z
SUMMARY:8th Grade Maize Football at Grandville High
URL;VALUE=URI:https://www.hudsonvillepublicschools.org/baldwinstreet/athlet
 ics/calendar/2707269/8th-grade-maize-football-at-grandville-high
DTSTART:20210907T200000Z
DTEND:20210907T220000Z
END:VEVENT
END:VCALENDAR
