BEGIN:VCALENDAR
VERSION:2.0
PRODID:SchoolNow
CALSCALE:GREGORIAN
BEGIN:VEVENT
UID:d11ec530-a1ea-11eb-a910-027282de509f
DTSTAMP:20210420T151226Z
SUMMARY:Boys tennis home vs. Holland
LOCATION:3835 Baldwin
URL;VALUE=URI:https://www.hudsonvillepublicschools.org/baldwinstreet/athlet
 ics/calendar/2582839/boys-tennis-home-vs-holland
DTSTART:20210526T200000Z
DTEND:20210526T220000Z
END:VEVENT
END:VCALENDAR
